BEGIN:VCALENDAR
VERSION:2.0
PRODID:-//jEvents 2.0 for Joomla//EN
CALSCALE:GREGORIAN
METHOD:PUBLISH
BEGIN:VEVENT
UID:865aa49a6bbd2c3be5cdd4387badf052
CATEGORIES:Abt. Riedlingen
CREATED:20240128T165159
SUMMARY:Übung
DESCRIPTION:
DTSTAMP:20260422T144109
DTSTART:20240307T183000
SEQUENCE:0
TRANSP:OPAQUE
END:VEVENT
END:VCALENDAR