BEGIN:VCALENDAR
VERSION:2.0
PRODID:-//jEvents 2.0 for Joomla//EN
CALSCALE:GREGORIAN
METHOD:PUBLISH
BEGIN:VEVENT
UID:6d7e10f2147f4128c0a843e92e3a94bd
CATEGORIES:Abt. Riedlingen
CREATED:20240128T165140
SUMMARY:Papierannahme
DESCRIPTION:
DTSTAMP:20260422T180142
DTSTART;VALUE=DATE:20240302
DTEND;VALUE=DATE:20240303
SEQUENCE:0
TRANSP:OPAQUE
END:VEVENT
END:VCALENDAR