BEGIN:VCALENDAR
VERSION:2.0
PRODID:-//jEvents 2.0 for Joomla//EN
CALSCALE:GREGORIAN
METHOD:PUBLISH
BEGIN:VEVENT
UID:0fa5dbc532c347c4145c353a0e534543
CATEGORIES:Abt. Riedlingen
CREATED:20240128T164307
SUMMARY:Wurstverkauf Fasnachtsumzug Kandern
DESCRIPTION:
DTSTAMP:20260423T113448
DTSTART;VALUE=DATE:20240211
DTEND;VALUE=DATE:20240212
SEQUENCE:0
TRANSP:OPAQUE
END:VEVENT
END:VCALENDAR