BEGIN:VCALENDAR
VERSION:2.0
PRODID:-//jEvents 2.0 for Joomla//EN
CALSCALE:GREGORIAN
METHOD:PUBLISH
BEGIN:VEVENT
UID:94171f9062bd372168846c69dedd2f87
CATEGORIES:Abt. Riedlingen
CREATED:20240128T164229
SUMMARY:Papierannahme
DESCRIPTION:
DTSTAMP:20260419T201752
DTSTART;VALUE=DATE:20240203
DTEND;VALUE=DATE:20240204
SEQUENCE:0
TRANSP:OPAQUE
END:VEVENT
END:VCALENDAR