BEGIN:VCALENDAR
VERSION:2.0
PRODID:-//jEvents 2.0 for Joomla//EN
CALSCALE:GREGORIAN
METHOD:PUBLISH
BEGIN:VEVENT
UID:d01c7a86cac4395c23d9c5271fa99e3a
CATEGORIES:Abt. Riedlingen
CREATED:20240128T164106
SUMMARY:Übung
DESCRIPTION:
DTSTAMP:20260421T110744
DTSTART:20240201T183000
SEQUENCE:0
TRANSP:OPAQUE
END:VEVENT
END:VCALENDAR