BEGIN:VCALENDAR
VERSION:2.0
PRODID:-//jEvents 2.0 for Joomla//EN
CALSCALE:GREGORIAN
METHOD:PUBLISH
BEGIN:VEVENT
UID:caa91a10ac7111f9136d8cd352396e58
CATEGORIES:Abt. Riedlingen
CREATED:20240128T164044
SUMMARY:Bäume im Wald holen
DESCRIPTION:
DTSTAMP:20260423T125745
DTSTART;VALUE=DATE:20240127
DTEND;VALUE=DATE:20240128
SEQUENCE:0
TRANSP:OPAQUE
END:VEVENT
END:VCALENDAR