BEGIN:VCALENDAR
VERSION:2.0
PRODID:-//jEvents 2.0 for Joomla//EN
CALSCALE:GREGORIAN
METHOD:PUBLISH
BEGIN:VEVENT
UID:5bf57c82359237bcf17d03a7fd611228
CATEGORIES:Abt. Riedlingen
CREATED:20240128T164025
SUMMARY:Ausschusssitzung
DESCRIPTION:
DTSTAMP:20260423T093703
DTSTART:20240125T183000
SEQUENCE:0
TRANSP:OPAQUE
END:VEVENT
END:VCALENDAR