BEGIN:VCALENDAR
VERSION:2.0
PRODID:-//jEvents 2.0 for Joomla//EN
CALSCALE:GREGORIAN
METHOD:PUBLISH
BEGIN:VEVENT
UID:fd67e8c371558d9a0d3a9e4c589577a5
CATEGORIES:Abt. Riedlingen
CREATED:20240128T163934
SUMMARY:Übung
DESCRIPTION:
DTSTAMP:20260421T110433
DTSTART:20240104T183000
SEQUENCE:0
TRANSP:OPAQUE
END:VEVENT
END:VCALENDAR