BEGIN:VCALENDAR
VERSION:2.0
PRODID:-//jEvents 2.0 for Joomla//EN
CALSCALE:GREGORIAN
METHOD:PUBLISH
BEGIN:VEVENT
UID:6897508874eec87d933f2cf2483b770a
CATEGORIES:JF Wollbach
CREATED:20240128T163359
SUMMARY:Übung
DESCRIPTION:
DTSTAMP:20260423T122734
DTSTART:20240123T180000
SEQUENCE:0
TRANSP:OPAQUE
END:VEVENT
END:VCALENDAR