BEGIN:VCALENDAR
VERSION:2.0
PRODID:-//jEvents 2.0 for Joomla//EN
CALSCALE:GREGORIAN
METHOD:PUBLISH
BEGIN:VEVENT
UID:8db582e2188eb5de341a88bd9925ebe7
CATEGORIES:JF Wollbach
CREATED:20240128T163345
SUMMARY:Übung
DESCRIPTION:
DTSTAMP:20260423T122937
DTSTART:20241009T170000
SEQUENCE:0
TRANSP:OPAQUE
END:VEVENT
END:VCALENDAR