BEGIN:VCALENDAR
VERSION:2.0
PRODID:-//jEvents 2.0 for Joomla//EN
CALSCALE:GREGORIAN
METHOD:PUBLISH
BEGIN:VEVENT
UID:529ce9c619b458f66ee3da6ce2dc9a4b
CATEGORIES:JF Wollbach
CREATED:20240128T163254
SUMMARY:Spiellauf Fischingen
DESCRIPTION:
DTSTAMP:20260421T173709
DTSTART;VALUE=DATE:20240914
DTEND;VALUE=DATE:20240915
SEQUENCE:0
TRANSP:OPAQUE
END:VEVENT
END:VCALENDAR