BEGIN:VCALENDAR
VERSION:2.0
PRODID:-//jEvents 2.0 for Joomla//EN
CALSCALE:GREGORIAN
METHOD:PUBLISH
BEGIN:VEVENT
UID:b259eb506bdddfdff6bdd04888614aa9
CATEGORIES:JF Wollbach
CREATED:20240128T163232
SUMMARY:Kreiszeltlager in Schönau
DESCRIPTION:
DTSTAMP:20260421T160201
DTSTART;VALUE=DATE:20240724
DTEND;VALUE=DATE:20240729
SEQUENCE:0
TRANSP:OPAQUE
END:VEVENT
END:VCALENDAR