BEGIN:VCALENDAR
VERSION:2.0
PRODID:-//jEvents 2.0 for Joomla//EN
CALSCALE:GREGORIAN
METHOD:PUBLISH
BEGIN:VEVENT
UID:d60ffe806e22d623bfd0da356ef95214
CATEGORIES:JF Wollbach
CREATED:20240128T163117
SUMMARY:Übung
DESCRIPTION:
DTSTAMP:20260419T160320
DTSTART:20240626T170000
SEQUENCE:0
TRANSP:OPAQUE
END:VEVENT
END:VCALENDAR