BEGIN:VCALENDAR
VERSION:2.0
PRODID:-//jEvents 2.0 for Joomla//EN
CALSCALE:GREGORIAN
METHOD:PUBLISH
BEGIN:VEVENT
UID:96a959a0e8a71ea8f6059ed46a501526
CATEGORIES:JF Wollbach
CREATED:20240128T162949
SUMMARY:Übung mit JF Kandern
DESCRIPTION:
DTSTAMP:20260421T110439
DTSTART:20240515T163000
SEQUENCE:0
TRANSP:OPAQUE
END:VEVENT
END:VCALENDAR