BEGIN:VCALENDAR
VERSION:2.0
PRODID:-//jEvents 2.0 for Joomla//EN
CALSCALE:GREGORIAN
METHOD:PUBLISH
BEGIN:VEVENT
UID:68179edbc02c4d2acb856f99ecf9c435
CATEGORIES:JF Wollbach
CREATED:20240128T162930
SUMMARY:Spiellauf Todtnau
DESCRIPTION:
DTSTAMP:20260421T155822
DTSTART;VALUE=DATE:20240511
DTEND;VALUE=DATE:20240512
SEQUENCE:0
TRANSP:OPAQUE
END:VEVENT
END:VCALENDAR