BEGIN:VCALENDAR
VERSION:2.0
PRODID:-//jEvents 2.0 for Joomla//EN
CALSCALE:GREGORIAN
METHOD:PUBLISH
BEGIN:VEVENT
UID:d1d84cab8053a486fad4ef53e854f74d
CATEGORIES:JF Wollbach
CREATED:20240128T162911
SUMMARY:Übung
DESCRIPTION:
DTSTAMP:20260421T110431
DTSTART:20240508T170000
SEQUENCE:0
TRANSP:OPAQUE
END:VEVENT
END:VCALENDAR