BEGIN:VCALENDAR
VERSION:2.0
PRODID:-//jEvents 2.0 for Joomla//EN
CALSCALE:GREGORIAN
METHOD:PUBLISH
BEGIN:VEVENT
UID:02f57ba6b27d0c0d19747776290b4dc3
CATEGORIES:JF Wollbach
CREATED:20240128T162845
SUMMARY:Übung
DESCRIPTION:
DTSTAMP:20260421T122414
DTSTART:20240424T170000
SEQUENCE:0
TRANSP:OPAQUE
END:VEVENT
END:VCALENDAR