BEGIN:VCALENDAR
VERSION:2.0
PRODID:-//jEvents 2.0 for Joomla//EN
CALSCALE:GREGORIAN
METHOD:PUBLISH
BEGIN:VEVENT
UID:035a740cbc58a1bc9d1225ad341f5ac6
CATEGORIES:JF Wollbach
CREATED:20240128T162827
SUMMARY:Übung
DESCRIPTION:
DTSTAMP:20260421T110708
DTSTART:20240410T170000
SEQUENCE:0
TRANSP:OPAQUE
END:VEVENT
END:VCALENDAR