BEGIN:VCALENDAR
VERSION:2.0
PRODID:-//jEvents 2.0 for Joomla//EN
CALSCALE:GREGORIAN
METHOD:PUBLISH
BEGIN:VEVENT
UID:85776c69cbd39680345e5a013dbaee51
CATEGORIES:JF Wollbach
CREATED:20240128T162746
SUMMARY:Übung mit JF Kandern
DESCRIPTION:
DTSTAMP:20260419T164112
DTSTART:20240318T173000
SEQUENCE:0
TRANSP:OPAQUE
END:VEVENT
END:VCALENDAR