BEGIN:VCALENDAR
VERSION:2.0
PRODID:-//jEvents 2.0 for Joomla//EN
CALSCALE:GREGORIAN
METHOD:PUBLISH
BEGIN:VEVENT
UID:2b22ab649cb5da0895a2d7f77e8766b0
CATEGORIES:JF Wollbach
CREATED:20240128T162721
SUMMARY:Übung
DESCRIPTION:
DTSTAMP:20260421T110636
DTSTART:20240313T180000
SEQUENCE:0
TRANSP:OPAQUE
END:VEVENT
END:VCALENDAR