BEGIN:VCALENDAR
VERSION:2.0
PRODID:-//jEvents 2.0 for Joomla//EN
CALSCALE:GREGORIAN
METHOD:PUBLISH
BEGIN:VEVENT
UID:d438a6245fd99232e0664757ee114f0f
CATEGORIES:JF Wollbach
CREATED:20240128T162707
SUMMARY:Übung
DESCRIPTION:
DTSTAMP:20260423T105900
DTSTART:20240228T180000
SEQUENCE:0
TRANSP:OPAQUE
END:VEVENT
END:VCALENDAR