BEGIN:VCALENDAR
VERSION:2.0
PRODID:-//jEvents 2.0 for Joomla//EN
CALSCALE:GREGORIAN
METHOD:PUBLISH
BEGIN:VEVENT
UID:17384031191cc6c4d06aca122d1b8592
CATEGORIES:JF Wollbach
CREATED:20240128T162622
SUMMARY:Scheibenverkauf
DESCRIPTION:
DTSTAMP:20260421T123840
DTSTART:20240218T090000
SEQUENCE:0
TRANSP:OPAQUE
END:VEVENT
END:VCALENDAR