BEGIN:VCALENDAR
VERSION:2.0
PRODID:-//jEvents 2.0 for Joomla//EN
CALSCALE:GREGORIAN
METHOD:PUBLISH
BEGIN:VEVENT
UID:7fc2a88c7f7aeb5f3295356eed04f28e
CATEGORIES:JF Wollbach
CREATED:20240128T162602
SUMMARY:Scheibenverkauf
DESCRIPTION:
DTSTAMP:20260423T093657
DTSTART:20240211T090000
SEQUENCE:0
TRANSP:OPAQUE
END:VEVENT
END:VCALENDAR