BEGIN:VCALENDAR
VERSION:2.0
PRODID:-//jEvents 2.0 for Joomla//EN
CALSCALE:GREGORIAN
METHOD:PUBLISH
BEGIN:VEVENT
UID:ac7197a33aa4329dc777723cefc9d13f
CATEGORIES:JF Wollbach
CREATED:20240121T140245
SUMMARY:Übung
DESCRIPTION:
DTSTAMP:20260419T181610
DTSTART:20240207T180000
SEQUENCE:0
TRANSP:OPAQUE
END:VEVENT
END:VCALENDAR