BEGIN:VCALENDAR
VERSION:2.0
PRODID:-//jEvents 2.0 for Joomla//EN
CALSCALE:GREGORIAN
METHOD:PUBLISH
BEGIN:VEVENT
UID:890012a6dc671e0ff7aa1d90141de770
CATEGORIES:JF Wollbach
CREATED:20240121T093342
SUMMARY:Übung
DESCRIPTION:
DTSTAMP:20260421T122838
DTSTART:20240131T180000
SEQUENCE:0
TRANSP:OPAQUE
END:VEVENT
END:VCALENDAR