BEGIN:VCALENDAR
VERSION:2.0
PRODID:-//jEvents 2.0 for Joomla//EN
CALSCALE:GREGORIAN
METHOD:PUBLISH
BEGIN:VEVENT
UID:df6da5b427b007d7db3b3fe45604e8ff
CATEGORIES:JF Wollbach
CREATED:20240121T093310
SUMMARY:Übung
DESCRIPTION:
DTSTAMP:20260423T105856
DTSTART:20240117T180000
SEQUENCE:0
TRANSP:OPAQUE
END:VEVENT
END:VCALENDAR