BEGIN:VCALENDAR
VERSION:2.0
PRODID:-//jEvents 2.0 for Joomla//EN
CALSCALE:GREGORIAN
METHOD:PUBLISH
BEGIN:VEVENT
UID:edbacf55c303460b81a14af40d5e1fe1
CATEGORIES:JF Wollbach
CREATED:20240121T093251
SUMMARY:Tannenbäume sammeln + gelbe Säcke
DESCRIPTION:
DTSTAMP:20260423T122856
DTSTART:20240113T064500
SEQUENCE:0
TRANSP:OPAQUE
END:VEVENT
END:VCALENDAR