BEGIN:VCALENDAR
VERSION:2.0
PRODID:-//jEvents 2.0 for Joomla//EN
CALSCALE:GREGORIAN
METHOD:PUBLISH
BEGIN:VEVENT
UID:9d74ae95defd79f08f3f3e42b4781f0e
CATEGORIES:Abt. Feuerbach
CREATED:19700101T010000
SUMMARY:Übung
DESCRIPTION:
DTSTAMP:20260421T150349
DTSTART:20240912T170000
SEQUENCE:0
RRULE:FREQ=WEEKLY;UNTIL=20241011T000000Z;INTERVAL=4;BYDAY=TH
TRANSP:OPAQUE
END:VEVENT
END:VCALENDAR