BEGIN:VCALENDAR
VERSION:2.0
PRODID:-//jEvents 2.0 for Joomla//EN
CALSCALE:GREGORIAN
METHOD:PUBLISH
BEGIN:VEVENT
UID:565ae41ff66ac484f7671f7844e4b586
CATEGORIES:Abt. Feuerbach
CREATED:20240108T133727
SUMMARY:Abbau Buckfest
DESCRIPTION:
DTSTAMP:20260421T123523
DTSTART:20240510T080000
SEQUENCE:0
TRANSP:OPAQUE
END:VEVENT
END:VCALENDAR