BEGIN:VCALENDAR
VERSION:2.0
PRODID:-//jEvents 2.0 for Joomla//EN
CALSCALE:GREGORIAN
METHOD:PUBLISH
BEGIN:VEVENT
UID:b51160092461f67f3098a479671f5acc
CATEGORIES:Abt. Feuerbach
CREATED:20240108T133704
SUMMARY:Buckfest
DESCRIPTION:
DTSTAMP:20260423T110050
DTSTART:20240509T070000
SEQUENCE:0
TRANSP:OPAQUE
END:VEVENT
END:VCALENDAR