BEGIN:VCALENDAR
VERSION:2.0
PRODID:-//jEvents 2.0 for Joomla//EN
CALSCALE:GREGORIAN
METHOD:PUBLISH
BEGIN:VEVENT
UID:9d4826e1d0f1f841ac91a1e3146910c4
CATEGORIES:Abt. Feuerbach
CREATED:20240108T133643
SUMMARY:Aufbau Zelt
DESCRIPTION:
DTSTAMP:20260419T144215
DTSTART:20240518T160000
SEQUENCE:0
TRANSP:OPAQUE
END:VEVENT
END:VCALENDAR