BEGIN:VCALENDAR
VERSION:2.0
PRODID:-//jEvents 2.0 for Joomla//EN
CALSCALE:GREGORIAN
METHOD:PUBLISH
BEGIN:VEVENT
UID:fb01fc76826a3e57122e65cf8d117db0
CATEGORIES:Abt. Feuerbach
CREATED:20240108T133459
SUMMARY:Ausschusssitzung
DESCRIPTION:
DTSTAMP:20260421T082727
DTSTART:20240404T180000
SEQUENCE:0
TRANSP:OPAQUE
END:VEVENT
END:VCALENDAR