BEGIN:VCALENDAR
VERSION:2.0
PRODID:-//jEvents 2.0 for Joomla//EN
CALSCALE:GREGORIAN
METHOD:PUBLISH
BEGIN:VEVENT
UID:56f7f8d58cd0093551608760ce05489b
CATEGORIES:Abt. Feuerbach
CREATED:20240108T133137
SUMMARY:Abteilungsversammlung
DESCRIPTION:
DTSTAMP:20260419T181720
DTSTART:20240203T180000
SEQUENCE:0
TRANSP:OPAQUE
END:VEVENT
END:VCALENDAR