BEGIN:VCALENDAR
VERSION:2.0
PRODID:-//jEvents 2.0 for Joomla//EN
CALSCALE:GREGORIAN
METHOD:PUBLISH
BEGIN:VEVENT
UID:0939bd34a4f8b95f28fcf8b43f8877e1
CATEGORIES:Abt. Stadt
CREATED:20240108T132535
SUMMARY:Herbsthock
DESCRIPTION:
DTSTAMP:20260423T113639
DTSTART;VALUE=DATE:20241020
DTEND;VALUE=DATE:20241021
SEQUENCE:0
TRANSP:OPAQUE
END:VEVENT
END:VCALENDAR