BEGIN:VCALENDAR
VERSION:2.0
PRODID:-//jEvents 2.0 for Joomla//EN
CALSCALE:GREGORIAN
METHOD:PUBLISH
BEGIN:VEVENT
UID:ecd69546d39d984c9e7d7d174fcbb9a4
CATEGORIES:Abt. Stadt
CREATED:20240108T132514
SUMMARY:Aufbau Herbsthock
DESCRIPTION:
DTSTAMP:20260421T140203
DTSTART:20241016T170000
SEQUENCE:0
TRANSP:OPAQUE
END:VEVENT
END:VCALENDAR