BEGIN:VCALENDAR
VERSION:2.0
PRODID:-//jEvents 2.0 for Joomla//EN
CALSCALE:GREGORIAN
METHOD:PUBLISH
BEGIN:VEVENT
UID:742ee9e389ee1fa53f5e2cc685610d0c
CATEGORIES:Abt. Stadt
CREATED:20240108T132431
SUMMARY:ASG Übung
DESCRIPTION:
DTSTAMP:20260423T122939
DTSTART:20240918T170000
SEQUENCE:0
TRANSP:OPAQUE
END:VEVENT
END:VCALENDAR