BEGIN:VCALENDAR
VERSION:2.0
PRODID:-//jEvents 2.0 for Joomla//EN
CALSCALE:GREGORIAN
METHOD:PUBLISH
BEGIN:VEVENT
UID:5fd280b60a0f586c3595773779ac599c
CATEGORIES:Gesamtwehr
CREATED:20240108T132122
SUMMARY:Führungsgruppe
DESCRIPTION:
DTSTAMP:20260421T093854
DTSTART:20240723T170000
SEQUENCE:0
TRANSP:OPAQUE
END:VEVENT
END:VCALENDAR