BEGIN:VCALENDAR
VERSION:2.0
PRODID:-//jEvents 2.0 for Joomla//EN
CALSCALE:GREGORIAN
METHOD:PUBLISH
BEGIN:VEVENT
UID:1192dc102637f5ddf3776b96c146d19a
CATEGORIES:Gesamtwehr
CREATED:20240108T131753
SUMMARY:Hauptversammlung
DESCRIPTION:
DTSTAMP:20260421T160223
DTSTART;VALUE=DATE:20240413
DTEND;VALUE=DATE:20240414
SEQUENCE:0
TRANSP:OPAQUE
END:VEVENT
END:VCALENDAR