BEGIN:VCALENDAR
VERSION:2.0
PRODID:-//jEvents 2.0 for Joomla//EN
CALSCALE:GREGORIAN
METHOD:PUBLISH
BEGIN:VEVENT
UID:1f4011c712f5945fc0890ca2f5f9501b
CATEGORIES:Abt. Stadt
CREATED:20240108T131717
SUMMARY:Frühstück Übungsbesuch
DESCRIPTION:
DTSTAMP:20260419T184125
DTSTART;VALUE=DATE:20240317
DTEND;VALUE=DATE:20240318
SEQUENCE:0
TRANSP:OPAQUE
END:VEVENT
END:VCALENDAR