BEGIN:VCALENDAR
VERSION:2.0
PRODID:-//jEvents 2.0 for Joomla//EN
CALSCALE:GREGORIAN
METHOD:PUBLISH
BEGIN:VEVENT
UID:29869f5015ea64b747b9848c1b816b64
CATEGORIES:Abt. Stadt
CREATED:20240108T131555
SUMMARY:Atemschutzübung
DESCRIPTION:
DTSTAMP:20260422T164259
DTSTART;VALUE=DATE:20240309
DTEND;VALUE=DATE:20240310
SEQUENCE:0
TRANSP:OPAQUE
END:VEVENT
END:VCALENDAR